BEGIN:VCALENDAR
VERSION:2.0
PRODID:-//Efasce di Philadelphia - ECPv6.15.20//NONSGML v1.0//EN
CALSCALE:GREGORIAN
METHOD:PUBLISH
X-WR-CALNAME:Efasce di Philadelphia
X-ORIGINAL-URL:https://efasce.net
X-WR-CALDESC:Events for Efasce di Philadelphia
REFRESH-INTERVAL;VALUE=DURATION:PT1H
X-Robots-Tag:noindex
X-PUBLISHED-TTL:PT1H
BEGIN:VTIMEZONE
TZID:America/New_York
BEGIN:DAYLIGHT
TZOFFSETFROM:-0500
TZOFFSETTO:-0400
TZNAME:EDT
DTSTART:20240310T070000
END:DAYLIGHT
BEGIN:STANDARD
TZOFFSETFROM:-0400
TZOFFSETTO:-0500
TZNAME:EST
DTSTART:20241103T060000
END:STANDARD
BEGIN:DAYLIGHT
TZOFFSETFROM:-0500
TZOFFSETTO:-0400
TZNAME:EDT
DTSTART:20250309T070000
END:DAYLIGHT
BEGIN:STANDARD
TZOFFSETFROM:-0400
TZOFFSETTO:-0500
TZNAME:EST
DTSTART:20251102T060000
END:STANDARD
BEGIN:DAYLIGHT
TZOFFSETFROM:-0500
TZOFFSETTO:-0400
TZNAME:EDT
DTSTART:20260308T070000
END:DAYLIGHT
BEGIN:STANDARD
TZOFFSETFROM:-0400
TZOFFSETTO:-0500
TZNAME:EST
DTSTART:20261101T060000
END:STANDARD
END:VTIMEZONE
BEGIN:VEVENT
DTSTART;TZID=America/New_York:20250620T174500
DTEND;TZID=America/New_York:20250620T190000
DTSTAMP:20260421T220829
CREATED:20250527T020254Z
LAST-MODIFIED:20250527T020254Z
UID:1496-1750441500-1750446000@efasce.net
SUMMARY:EFASCE di Philadelphia Night at the Ballpark!
DESCRIPTION:Join us for an EFASCE di Philadelphia Night at the Ballpark!  Come cheer on the Lehigh Valley IronPigs on Friday\, June 20th! \n\nGates Open: 5:45 PM\nFirst Pitch: 7:05 PM\nEnjoy a 2-Hour Buffet\nSpectacular Fireworks Show After the Game. \n\nSeats are in Section 119 Rows R\, S\, and T. For the first 30 tickets after that we will be in same section and different rows.  All this for just $30! \nReservations are only confirmed with payment. Seating is reserved  \nDon’t miss out on this fun-filled evening of baseball\, food\, and fireworks! \n[wpeevent id=”1495″]
URL:https://efasce.net/event/efasce-di-philadelphia-night-at-the-ballpark
LOCATION:Coca-Cola Park\, 1050 Ironpigs Way\, Allentown\, PA\, 18104\, United States
ORGANIZER;CN="Laura":MAILTO:events@efasce.net
END:VEVENT
BEGIN:VEVENT
DTSTART;TZID=America/New_York:20250622T120000
DTEND;TZID=America/New_York:20250622T140000
DTSTAMP:20260421T220829
CREATED:20250506T222750Z
LAST-MODIFIED:20250506T222750Z
UID:1489-1750593600-1750600800@efasce.net
SUMMARY:EFASCE NY and Philadelphia Alipini Event - Sunday June 22
DESCRIPTION:From: “Rosemary Maieron Norwood EFASCE Phila. President” <president@efasce.net>\nDate: 04/27/2025 10:24 PM EDT\nSubject: SAVE THE DATE: EFASCE NY and Philadelphia Alipini Event – Sunday June 22 \nMark your calendars for Sunday\, June 22\, at 12:00 noon.  EFASCE New York members\, the head of the Alpini in North America\, and the head of an Italian organization focused on immigrated Alpini around the world\, ERAPLE\, are coming to the Venetian Club for an event about the Alpini.   \nWe don’t have all the details yet\, but the program will tentatively include a video connection with an Alipini choir\, Choro Alpini Montenegro Live from Cividale del Friuli. There will also be an exhibition of Alpini information\, and you will hear from the ERAPLE organization.  We will have tastes of Friuli and lunch – as well as an opportunity to mingle with the New York contingency to make new friends and connections.   \nWe will keep you posted\, but I wanted to get this information out to you to Save the Date!  We are very excited to bring this opportunity to our organization.  Mandi! \nRosemary Maieron Norwood\nPresident\, EFASCE di Philadelphia \nwww.efasce.net\nSegretario EFASCE di Philadelphia is a 501(c)(3) non-profit organization. 
URL:https://efasce.net/event/efasce-ny-and-philadelphia-alipini-event-sunday-june-22
ORGANIZER;CN="Events@Efasce.net":MAILTO:event@efasce.net
END:VEVENT
END:VCALENDAR