BEGIN:VCALENDAR
VERSION:2.0
PRODID:-//Efasce di Philadelphia - ECPv6.15.20//NONSGML v1.0//EN
CALSCALE:GREGORIAN
METHOD:PUBLISH
X-ORIGINAL-URL:https://efasce.net
X-WR-CALDESC:Events for Efasce di Philadelphia
REFRESH-INTERVAL;VALUE=DURATION:PT1H
X-Robots-Tag:noindex
X-PUBLISHED-TTL:PT1H
BEGIN:VTIMEZONE
TZID:America/New_York
BEGIN:DAYLIGHT
TZOFFSETFROM:-0500
TZOFFSETTO:-0400
TZNAME:EDT
DTSTART:20240310T070000
END:DAYLIGHT
BEGIN:STANDARD
TZOFFSETFROM:-0400
TZOFFSETTO:-0500
TZNAME:EST
DTSTART:20241103T060000
END:STANDARD
BEGIN:DAYLIGHT
TZOFFSETFROM:-0500
TZOFFSETTO:-0400
TZNAME:EDT
DTSTART:20250309T070000
END:DAYLIGHT
BEGIN:STANDARD
TZOFFSETFROM:-0400
TZOFFSETTO:-0500
TZNAME:EST
DTSTART:20251102T060000
END:STANDARD
BEGIN:DAYLIGHT
TZOFFSETFROM:-0500
TZOFFSETTO:-0400
TZNAME:EDT
DTSTART:20260308T070000
END:DAYLIGHT
BEGIN:STANDARD
TZOFFSETFROM:-0400
TZOFFSETTO:-0500
TZNAME:EST
DTSTART:20261101T060000
END:STANDARD
END:VTIMEZONE
BEGIN:VEVENT
DTSTART;TZID=America/New_York:20250426T180000
DTEND;TZID=America/New_York:20250426T223000
DTSTAMP:20260421T185348
CREATED:20250302T173706Z
LAST-MODIFIED:20250305T193133Z
UID:1480-1745690400-1745706600@efasce.net
SUMMARY:2025 Polenta Dinner
DESCRIPTION:2025 Polenta Dinner \nPOLENTA DINNER at the VENETIAN CLUB \nSaturday\, April 26th\nDinner Served 6 – 7:30 PM\nMain Course: Choice of Cornish Hen or Veal \nSEATING OPTIONS: BALLROOM OR FOUNDERS ROOM\nDancing 7:30 – 10:30 PM\nLive Music by: Heimat Klange Orchestra\n$50 PER PERSON ~ $20 KIDS UNDER 12 \nIncludes: salad\, entrée\, wine\, dessert\, coffee\, entertainment\nPre-Paid Reservations Required– See Bartender to Pay by Cash or Check (Payable to Venetian Club) OR VENMO @TheVenetianClub (ATTN: Polenta & provide your email) \nReservations begin Sunday\, March 2 ~ Questions? Call 215-280-4586
URL:https://efasce.net/event/2025-polenta-dinner
LOCATION:Venetian Social Club\, 8030 Germantown Ave\, Philadelphia\, PA\, 19118\, United States
END:VEVENT
END:VCALENDAR