BEGIN:VCALENDAR
VERSION:2.0
PRODID:-//Efasce di Philadelphia - ECPv6.15.20//NONSGML v1.0//EN
CALSCALE:GREGORIAN
METHOD:PUBLISH
X-WR-CALNAME:Efasce di Philadelphia
X-ORIGINAL-URL:https://efasce.net
X-WR-CALDESC:Events for Efasce di Philadelphia
REFRESH-INTERVAL;VALUE=DURATION:PT1H
X-Robots-Tag:noindex
X-PUBLISHED-TTL:PT1H
BEGIN:VTIMEZONE
TZID:America/New_York
BEGIN:DAYLIGHT
TZOFFSETFROM:-0500
TZOFFSETTO:-0400
TZNAME:EDT
DTSTART:20170312T070000
END:DAYLIGHT
BEGIN:STANDARD
TZOFFSETFROM:-0400
TZOFFSETTO:-0500
TZNAME:EST
DTSTART:20171105T060000
END:STANDARD
BEGIN:DAYLIGHT
TZOFFSETFROM:-0500
TZOFFSETTO:-0400
TZNAME:EDT
DTSTART:20180311T070000
END:DAYLIGHT
BEGIN:STANDARD
TZOFFSETFROM:-0400
TZOFFSETTO:-0500
TZNAME:EST
DTSTART:20181104T060000
END:STANDARD
BEGIN:DAYLIGHT
TZOFFSETFROM:-0500
TZOFFSETTO:-0400
TZNAME:EDT
DTSTART:20190310T070000
END:DAYLIGHT
BEGIN:STANDARD
TZOFFSETFROM:-0400
TZOFFSETTO:-0500
TZNAME:EST
DTSTART:20191103T060000
END:STANDARD
BEGIN:DAYLIGHT
TZOFFSETFROM:-0500
TZOFFSETTO:-0400
TZNAME:EDT
DTSTART:20200308T070000
END:DAYLIGHT
BEGIN:STANDARD
TZOFFSETFROM:-0400
TZOFFSETTO:-0500
TZNAME:EST
DTSTART:20201101T060000
END:STANDARD
END:VTIMEZONE
BEGIN:VTIMEZONE
TZID:UTC
BEGIN:STANDARD
TZOFFSETFROM:+0000
TZOFFSETTO:+0000
TZNAME:UTC
DTSTART:20160101T000000
END:STANDARD
END:VTIMEZONE
BEGIN:VEVENT
DTSTART;TZID=America/New_York:20190519T140000
DTEND;TZID=America/New_York:20190519T160000
DTSTAMP:20260420T035335
CREATED:20190517T124003Z
LAST-MODIFIED:20190517T124003Z
UID:837-1558274400-1558281600@efasce.net
SUMMARY:"Hold on and Stay Connected." An Italian Immigrant Presence in Canada:  Friulian Identity and Cultural Preservation\, 1932-1990.
DESCRIPTION:“Hold on and Stay Connected.” \nAn Italian Immigrant Presence in Canada: Friulian Identity and Cultural Preservation\, 1932-1990.\nPlease join us at the Venetian Social Club \nSunday\, May 19th\, 2019\, 2-4 pm \nto welcome guest speaker Vanessa Lovisa-Gambin\, from Toronto\, Canada. \nVanessa will speak about her Ph.D. thesis entitled “Hold on and Stay Connected.” An Italian Immigrant Presence in Canada: Friulian Identity and Cultural Preservation\, 1932-1990. \nThis event is free to attend – an RSVP to president@efasce.net or Lisa at 215-247-1393 would be greatly appreciated. \nVanessa’s family is from the region of Friuli Venezia-Giulia\, Italy. Her maternal side is from San Giovanni di Casarsa\, San Giorgio della Richinvelda\, and Rauscedo\, while the paternal side is from Fagnigola and Panigai (Pravisdomini)\, which are located a short distance from the city of Pordenone. She is heavily involved with Famee Furlane Toronto in her capacity as President of young social group the “20-Somethings.” \nVanessa is studying 20th-century Canadian history\, with an emphasis on immigration. Her dissertation focuses on Northern Italian immigrant roles within the communities they built in Canada in a pre and post WWII context\, with a particular focus on cultural transmission and associational involvement. Vanessa completed her Honours BA and Masters in History at York University and is currently completing her Ph.D. at McMaster University. 
URL:https://efasce.net/event/hold-on-and-stay-connected-an-italian-immigrant-presence-in-canada-friulian-identity-and-cultural-preservation-1932-1990
END:VEVENT
BEGIN:VEVENT
DTSTART;TZID=America/New_York:20190406T173000
DTEND;TZID=America/New_York:20190406T220000
DTSTAMP:20260420T035335
CREATED:20190218T183622Z
LAST-MODIFIED:20190227T034447Z
UID:739-1554571800-1554588000@efasce.net
SUMMARY:Polenta Dinner
DESCRIPTION:Saturday\, April 6th\, 2019\nat the Venetian Social Club\, 8030 Germantown Avenue\, Philadelphia\, PA 19118\nfor the Leo & Eni Roman Memorial Polenta Dinner\nSponsored by The Venetian Social Club and EFSACE di Philadelphia \nDoors open at 5:30 pm\, Dinner served at 6:00 pm\, with your choice of Cornish Hen or Veal\nDancing until 10:00 pm with music by The Heimat Klange Orchestra \n$35 per person\, $15 per child\, age 12 & under \nCash and Checks Payable to the Venetian Social Club will be accepted.  \nTickets will be going on sale Tuesday\, February 26th and will be available at our General Membership Meeting Sunday\, March 3rd.  \nPlease see the bartender at the Venetian Social Club to purchase your tickets! 
URL:https://efasce.net/event/polenta-dinner
LOCATION:Venetian Social Club\, 8030 Germantown Ave\, Philadelphia\, PA\, 19118\, United States
ORGANIZER;CN="Laura":MAILTO:events@efasce.net
END:VEVENT
BEGIN:VEVENT
DTSTART;VALUE=DATE:20190303
DTEND;VALUE=DATE:20190304
DTSTAMP:20260420T035335
CREATED:20190218T183713Z
LAST-MODIFIED:20190218T183713Z
UID:741-1551571200-1551657599@efasce.net
SUMMARY:Patria del Friul
DESCRIPTION:Birth of Friuli Anniversary (1077)
URL:https://efasce.net/event/patria-del-friul
END:VEVENT
BEGIN:VEVENT
DTSTART;TZID=America/New_York:20181212T173000
DTEND;TZID=America/New_York:20181212T200000
DTSTAMP:20260420T035335
CREATED:20181118T215551Z
LAST-MODIFIED:20181118T215705Z
UID:675-1544635800-1544644800@efasce.net
SUMMARY:Social Hour at Venetian Social Club
DESCRIPTION:December 12\, come out to the Venetian Social Club for an EFASCE Social hour before the holidays! Enjoy Stag and Doe night on the avenue and enjoy cocktail specials and hors d’oeuvres while mingling with your fellow Friulans and Italians!!! Menu and details to follow!! \n 
URL:https://efasce.net/event/social-hour-at-venetian-social-club
END:VEVENT
BEGIN:VEVENT
DTSTART;TZID=America/New_York:20181027T170000
DTEND;TZID=America/New_York:20181027T200000
DTSTAMP:20260420T035335
CREATED:20180725T124809Z
LAST-MODIFIED:20180731T192307Z
UID:549-1540659600-1540670400@efasce.net
SUMMARY:10th Anniversary Dinner
DESCRIPTION:[wpeevent id=”560″] \nMore details to come…  \nSandy Run Country Club  \nCocktails 5:PM\, Dinner 6:PM
URL:https://efasce.net/event/10th-anniversary-dinner
ORGANIZER;CN="Laura":MAILTO:events@efasce.net
END:VEVENT
BEGIN:VEVENT
DTSTART;TZID=UTC:20180517T173000
DTEND;TZID=UTC:20180517T200000
DTSTAMP:20260420T035335
CREATED:20180219T044036Z
LAST-MODIFIED:20180219T044743Z
UID:217-1526578200-1526587200@efasce.net
SUMMARY:Social Hour
DESCRIPTION:Thursday May 17th
URL:https://efasce.net/event/social-hour
END:VEVENT
BEGIN:VEVENT
DTSTART;TZID=UTC:20171206T173000
DTEND;TZID=UTC:20171206T200000
DTSTAMP:20260420T035335
CREATED:20171126T032637Z
LAST-MODIFIED:20171126T033150Z
UID:130-1512581400-1512590400@efasce.net
SUMMARY:Stag and Doe Social Hour
DESCRIPTION:Stag and Does Social Hours at the VSC Wed. Dec. 6 2017 https://efasce.net/stag-doe-social-hour
URL:https://efasce.net/event/stag-doe-social-hour
LOCATION:Venetian Social Club\, 8030 Germantown Ave\, Philadelphia\, PA\, 19118\, United States
END:VEVENT
END:VCALENDAR