BEGIN:VCALENDAR
VERSION:2.0
PRODID:-//Efasce di Philadelphia - ECPv6.15.20//NONSGML v1.0//EN
CALSCALE:GREGORIAN
METHOD:PUBLISH
X-ORIGINAL-URL:https://efasce.net
X-WR-CALDESC:Events for Efasce di Philadelphia
REFRESH-INTERVAL;VALUE=DURATION:PT1H
X-Robots-Tag:noindex
X-PUBLISHED-TTL:PT1H
BEGIN:VTIMEZONE
TZID:America/New_York
BEGIN:DAYLIGHT
TZOFFSETFROM:-0500
TZOFFSETTO:-0400
TZNAME:EDT
DTSTART:20190310T070000
END:DAYLIGHT
BEGIN:STANDARD
TZOFFSETFROM:-0400
TZOFFSETTO:-0500
TZNAME:EST
DTSTART:20191103T060000
END:STANDARD
BEGIN:DAYLIGHT
TZOFFSETFROM:-0500
TZOFFSETTO:-0400
TZNAME:EDT
DTSTART:20200308T070000
END:DAYLIGHT
BEGIN:STANDARD
TZOFFSETFROM:-0400
TZOFFSETTO:-0500
TZNAME:EST
DTSTART:20201101T060000
END:STANDARD
BEGIN:DAYLIGHT
TZOFFSETFROM:-0500
TZOFFSETTO:-0400
TZNAME:EDT
DTSTART:20210314T070000
END:DAYLIGHT
BEGIN:STANDARD
TZOFFSETFROM:-0400
TZOFFSETTO:-0500
TZNAME:EST
DTSTART:20211107T060000
END:STANDARD
END:VTIMEZONE
BEGIN:VEVENT
DTSTART;TZID=America/New_York:20200209T140000
DTEND;TZID=America/New_York:20200209T163000
DTSTAMP:20260419T224253
CREATED:20200108T010624Z
LAST-MODIFIED:20200202T184545Z
UID:977-1581256800-1581265800@efasce.net
SUMMARY:Tombola
DESCRIPTION:Tombola Flyer (Click to Open) \nCome out and learn how to play Tombola!!! It’s the Italian version of the game Bingo.  Any age can learn to play.  Bring your families\, children\, grandchildren – the more\, the merrier!\nThere will be prizes for the winners! \nWhen: Sunday\, February 9th\, 2020\nWhere: The Venetian Social Club (8030 Germantown Avenue\, Chestnut Hill\, PA) Time: 2:00-4:30PM
URL:https://efasce.net/event/tombola
END:VEVENT
END:VCALENDAR